BEGIN:VCALENDAR
VERSION:2.0
PRODID:-//52.85.144.4//NONSGML kigkonsult.se iCalcreator 2.26.9//
CALSCALE:GREGORIAN
METHOD:PUBLISH
X-WR-CALNAME:New Mexico Department of Finance and Administration
X-WR-CALDESC:The Department of Finance and Administration provides sound fi
 scal advice and problem solving support to the Governor\, provide budget d
 irection and fiscal oversight to state agencies and local governments.
X-FROM-URL:https://www.nmdfa.state.nm.us
X-WR-TIMEZONE:America/Denver
BEGIN:VTIMEZONE
TZID:America/Denver
X-LIC-LOCATION:America/Denver
BEGIN:STANDARD
DTSTART:20201101T020000
TZOFFSETFROM:-0600
TZOFFSETTO:-0700
RDATE:20211107T020000,20221106T020000
TZNAME:MST
END:STANDARD
BEGIN:DAYLIGHT
DTSTART:20210314T020000
TZOFFSETFROM:-0700
TZOFFSETTO:-0600
RDATE:20220313T020000
TZNAME:MDT
END:DAYLIGHT
END:VTIMEZONE
BEGIN:VEVENT
UID:ai1ec-2654@www.nmdfa.state.nm.us
DTSTAMP:20210511T050127Z
CATEGORIES:
CONTACT:
DESCRIPTION:content here
DTSTART;VALUE=DATE:20201223
DTEND;VALUE=DATE:20201224
LOCATION:Venue Name @ Address
SEQUENCE:0
SUMMARY:Test Event for Theme Builder
URL:https://www.nmdfa.state.nm.us/event/test-event-for-theme-builder/
X-COST-TYPE:free
X-ALT-DESC;FMTTYPE=text/html:<!DOCTYPE HTML PUBLIC '-//W3C//DTD HTML 3.2//E
 N'>\\n<HTML>\\n<HEAD>\\n<TITLE></TITLE>\\n</HEAD>\\n<BODY><div class='et-l
  et-l--post'>\n			<div class='et_builder_inner_content et_pb_gutters3'>\n		<p>c
 ontent here</p>\n\n		</div><!-- .et_builder_inner_content -->\n	</div><!-- .e
 t-l -->\n	</BODY></HTML>
END:VEVENT
END:VCALENDAR
