BEGIN:VCALENDAR
VERSION:2.0
PRODID:-//52.85.144.4//NONSGML kigkonsult.se iCalcreator 2.26.9//
CALSCALE:GREGORIAN
METHOD:PUBLISH
X-WR-CALNAME:New Mexico Department of Finance and Administration
X-WR-CALDESC:The Department of Finance and Administration provides sound fi
 scal advice and problem solving support to the Governor\, provide budget d
 irection and fiscal oversight to state agencies and local governments.
X-FROM-URL:https://www.nmdfa.state.nm.us
X-WR-TIMEZONE:America/Denver
BEGIN:VTIMEZONE
TZID:America/Denver
X-LIC-LOCATION:America/Denver
BEGIN:STANDARD
DTSTART:20201101T020000
TZOFFSETFROM:-0600
TZOFFSETTO:-0700
RDATE:20211107T020000,20221106T020000
TZNAME:MST
END:STANDARD
BEGIN:DAYLIGHT
DTSTART:20210314T020000
TZOFFSETFROM:-0700
TZOFFSETTO:-0600
RDATE:20220313T020000
TZNAME:MDT
END:DAYLIGHT
END:VTIMEZONE
BEGIN:VEVENT
UID:ai1ec-3494@www.nmdfa.state.nm.us
DTSTAMP:20210511T050209Z
CATEGORIES:
CONTACT:
DESCRIPTION:This class will provide a short tutorial on navigating the Quer
 y Viewer Module and running basic queries in SHARE. The basic queries will
  be related to purchasing and will include accounts payable\, purchase ord
 ers\, requisitions and outstanding checks.\n\n\n\n\n\nDate:\nThursday\, Ja
 nuary 7\, 2021\n\n\nTime:\n9:00 AM\n\n\nLocation:\nZoom Training\n\n\nLink
 s:\n\n\nClick here to register in advance
DTSTART;TZID=America/Denver:20210107T090000
SEQUENCE:0
SUMMARY:DFA Purchasing Query 101
URL:https://www.nmdfa.state.nm.us/event/dfa-purchasing-query-101/
X-COST-TYPE:free
X-ALT-DESC;FMTTYPE=text/html:<!DOCTYPE HTML PUBLIC '-//W3C//DTD HTML 3.2//E
 N'>\\n<HTML>\\n<HEAD>\\n<TITLE></TITLE>\\n</HEAD>\\n<BODY><div class='et-l
  et-l--post'>\n			<div class='et_builder_inner_content et_pb_gutters3'>\n		<div
  class='calIndItemSubTitle'>\n<pre>This class will provide a short tutoria
 l on navigating the Query Viewer Module and running basic queries in SHARE
 . The basic queries will be related to purchasing and will include account
 s payable\, purchase orders\, requisitions and outstanding checks.</pre>\n
 </div>\n<div class='calIndItemPadding'>\n<table>\n<tbody>\n<tr>\n<td class
 ='calTop calIndItemLeft'>Date:</td>\n<td class='calTop calIndItemRight'>Th
 ursday\, January 7\, 2021</td>\n</tr>\n<tr>\n<td class='calTop calIndItemL
 eft'>Time:</td>\n<td class='calTop calIndItemRight'>9:00 AM</td>\n</tr>\n<
 tr>\n<td class='calTop calIndItemLeft'>Location:</td>\n<td class='calTop c
 alIndItemRight'>Zoom Training</td>\n</tr>\n<tr>\n<td class='calTop calIndI
 temLeft'>Links:</td>\n<td class='calTop calIndItemRight'>\n<ul class='calE
 ventLinks'>\n<li><a href='http://us02web.zoom.us/webinar/register/WN_OSRX9
 BbRQDaJXtT-RY7SXQ#CalendarContent'>Click here to register in advance</a></
 li>\n</ul>\n</td>\n</tr>\n</tbody>\n</table>\n</div>\n\n		</div><!-- .et_bui
 lder_inner_content -->\n	</div><!-- .et-l -->\n	</BODY></HTML>
X-INSTANT-EVENT:1
END:VEVENT
END:VCALENDAR
