BEGIN:VCALENDAR
VERSION:2.0
PRODID:-//52.85.144.122//NONSGML kigkonsult.se iCalcreator 2.26.9//
CALSCALE:GREGORIAN
METHOD:PUBLISH
X-WR-CALNAME:New Mexico Department of Finance and Administration
X-WR-CALDESC:The Department of Finance and Administration provides sound fi
 scal advice and problem solving support to the Governor\, provide budget d
 irection and fiscal oversight to state agencies and local governments.
X-FROM-URL:https://www.nmdfa.state.nm.us
X-WR-TIMEZONE:America/Denver
BEGIN:VTIMEZONE
TZID:America/Denver
X-LIC-LOCATION:America/Denver
BEGIN:STANDARD
DTSTART:20201101T020000
TZOFFSETFROM:-0600
TZOFFSETTO:-0700
RDATE:20211107T020000,20221106T020000
TZNAME:MST
END:STANDARD
BEGIN:DAYLIGHT
DTSTART:20210314T020000
TZOFFSETFROM:-0700
TZOFFSETTO:-0600
RDATE:20220313T020000
TZNAME:MDT
END:DAYLIGHT
END:VTIMEZONE
BEGIN:VEVENT
UID:ai1ec-3498@www.nmdfa.state.nm.us
DTSTAMP:20210511T050237Z
CATEGORIES:
CONTACT:
DESCRIPTION:<div class='et-l et-l--post'>\n			<div class='et_builder_inner_con
 tent et_pb_gutters3'>\n		<p>This course will provide an overview of the Fina
 ncial Management Bureau (Vendor Relations) at DFA to include suppliers\, W
 9s\, 1099s\, fraud and fraud avoidance\, warrant cancellations\, ACH retur
 ns\, the Distribution Center and Withholding/Tax implications of all State
  transactions.</p>\n<ul class='calEventLinks'>\n<li><a href='http://us02we
 b.zoom.us/webinar/register/WN_WtYTWpLuQTeGXY2VQxEq1w#CalendarContent'>Clic
 k here to register in advance</a></li>\n</ul>\n\n		</div><!-- .et_builder_in
 ner_content -->\n	</div><!-- .et-l -->
DTSTART;TZID=America/Denver:20210112T090000
SEQUENCE:0
SUMMARY:DFA Supplier Relations 101
URL:https://www.nmdfa.state.nm.us/event/dfa-supplier-relations-101/
X-COST-TYPE:free
X-INSTANT-EVENT:1
END:VEVENT
END:VCALENDAR
