BEGIN:VCALENDAR
VERSION:2.0
PRODID:-//52.85.144.122//NONSGML kigkonsult.se iCalcreator 2.26.9//
CALSCALE:GREGORIAN
METHOD:PUBLISH
X-WR-CALNAME:New Mexico Department of Finance and Administration
X-WR-CALDESC:The Department of Finance and Administration provides sound fi
 scal advice and problem solving support to the Governor\, provide budget d
 irection and fiscal oversight to state agencies and local governments.
X-FROM-URL:https://www.nmdfa.state.nm.us
X-WR-TIMEZONE:America/Denver
BEGIN:VTIMEZONE
TZID:America/Denver
X-LIC-LOCATION:America/Denver
BEGIN:STANDARD
DTSTART:20201101T020000
TZOFFSETFROM:-0600
TZOFFSETTO:-0700
RDATE:20211107T020000,20221106T020000
TZNAME:MST
END:STANDARD
BEGIN:DAYLIGHT
DTSTART:20210314T020000
TZOFFSETFROM:-0700
TZOFFSETTO:-0600
RDATE:20220313T020000
TZNAME:MDT
END:DAYLIGHT
END:VTIMEZONE
BEGIN:VEVENT
UID:ai1ec-3500@www.nmdfa.state.nm.us
DTSTAMP:20210511T050321Z
CATEGORIES:
CONTACT:
DESCRIPTION:DFA will hold a hearing to repeal and replace 2.20.2 NMAC\, Exe
 cution of Contracts\, Vouchers\, Purchase Orders and Other Financial Commi
 tments. Pursuant to Subsection E of 9-1-5 and 9-6-5 NMSA 1978\, DFA promul
 gates these rules to administer the duties of the Department and its divis
 ions. Further legal authority for this rulemaking can be found in the Stat
 e Rules Act\, Section 14-4-1 et seq. NMSA 1978
DTSTART;TZID=America/Denver:20210115T090000
SEQUENCE:0
SUMMARY:Notice of Rulemaking
URL:https://www.nmdfa.state.nm.us/event/notice-of-rulemaking/
X-COST-TYPE:free
X-ALT-DESC;FMTTYPE=text/html:<!DOCTYPE HTML PUBLIC '-//W3C//DTD HTML 3.2//E
 N'>\\n<HTML>\\n<HEAD>\\n<TITLE></TITLE>\\n</HEAD>\\n<BODY><div class='et-l
  et-l--post'>\n			<div class='et_builder_inner_content et_pb_gutters3'>\n		<p>D
 FA will hold a hearing to repeal and replace 2.20.2 NMAC\, Execution of Co
 ntracts\, Vouchers\, Purchase Orders and Other Financial Commitments. Purs
 uant to Subsection E of 9-1-5 and 9-6-5 NMSA 1978\, DFA promulgates these 
 rules to administer the duties of the Department and its divisions. Furthe
 r legal authority for this rulemaking can be found in the State Rules Act\
 , Section 14-4-1 et seq. NMSA 1978</p>\n\n		</div><!-- .et_builder_inner_con
 tent -->\n	</div><!-- .et-l -->\n	</BODY></HTML>
X-INSTANT-EVENT:1
END:VEVENT
END:VCALENDAR
